Workbook

Sheet Таблицы
A1: III. Эффективность управления и качество организации учебно-воспитательного процесса
A3: Таблица 3.1 Количество учащихся, выбывших из школы
A4: учебный год | B4: количество выбывших учащихся всего | C4: количество учащихся, выбывших в связи с переменой места жительства | D4: количество учащихся, исключенных по неуспеваемости и за плохое поведение | E4: количество учащихся, переведенных в специальные учебно-воспитательные учреждения и колонии | F4: количество учащихся, выбывших в ПТЛ | G4: количество учащихся, выбывших в колледжи | H4: количество учащихся поступивших на работу и не продолжающих обучение | I4: количество учащихся не поступивших на работу и не продолжающих обучение
A5: 2018-2019 | B5: =SUM(C5:I5) -> 33 | C5: 32 | D5: 0 | E5: 0 | F5: 0 | G5: 1 | H5: 0 | I5: 0
A6: 2019-2020 | B6: =SUM(C6:I6) -> 22 | C6: 22 | D6: 0 | E6: 0 | F6: 0 | G6: 0 | H6: 0 | I6: 0
A7: 2020-2021 | B7: =SUM(C7:I7) -> 33 | C7: 32 | D7: 0 | E7: 0 | F7: 0 | G7: 1 | H7: 0 | I7: 0
A8: 2021-2022 | B8: =SUM(C8:I8) -> 31 | C8: 31 | D8: 0 | E8: 0 | F8: 0 | G8: 0 | H8: 0 | I8: 0
A9: 2022-2023 | B9: 29 | C9: 29 | D9: 0 | E9: 0 | F9: 0 | G9: 0 | H9: 0 | I9: 0
A10: Таблица 3.2 Доля учащихся, выбывших из школы
A11: учебный год | B11: доля учащихся, выбывших в связи с переменой места жительства | C11: доля учащихся, исключенных по неуспеваемости и за плохое поведение | D11: доля учащихся, переведенных в специальные учебно-воспитательные учреждения и колонии | E11: доля учащихся, выбывших в ПТЛ | F11: доля учащихся, выбывших в колледжи | G11: доля учащихся поступивших на работу и не продолжающих обучение | H11: доля учащихся не поступивших на работу и не продолжающих обучение
A12: 2018-2019 | B12: =C5/B5*100 -> 96.969697 | C12: 0 | D12: 0 | E12: =F5/B5*100 -> 0 | F12: =G5/B5*100 -> 3.030303 | G12: 0 | H12: 0
A13: 2019-2020 | B13: =C6/B6*100 -> 100 | C13: 0 | D13: 0 | E13: =F6/B6*100 -> 0 | F13: =G6/B6*100 -> 0 | G13: 0 | H13: 0
A14: 2020-2021 | B14: =C7/B7*100 -> 96.969697 | C14: 0 | D14: 0 | E14: =F7/B7*100 -> 0 | F14: =G7/B7*100 -> 3.030303 | G14: 0 | H14: 0
A15: 2021-2022 | B15: =C8/B8*100 -> 100 | C15: 0 | D15: 0 | E15: =F8/B8*100 -> 0 | F15: =G8/B8*100 -> 0 | G15: 0 | H15: 0
A16: 2022-2023 | B16: =C9/B9*100 -> 100 | C16: 0 | D16: 0 | E16: =F9/B9*100 -> 0 | F16: =G9/B9*100 -> 0 | G16: 0 | H16: 0
A17: Таблица 3.3 Количество учащихся, обучающихся индивидуально на дому
A18: учебный год | B18: 2018-2019 | C18: 2019-2020 | D18: 2020-2021 | E18: 2021-2022 | F18: 2022-2023
A19: численность учащихся | B19: 1 | C19: 0 | D19: 0 | E19: 0 | F19: 0
A21: Таблица 3.4 Доля учащихся, обучающихся индивидуально на дому
A22: учебный год | B22: 2018-2019 | C22: 2019-2020 | D22: 2020-2021 | E22: 2021-2022 | F22: 2022-2023
A23: доля учащихся | B23: =B19*100/D69 -> 0.13477089 | C23: =C19*100/D70 -> 0 | D23: =D19*100/D71 -> 0 | E23: =E19*100/D72 -> 0 | F23: =F19*100/D73 -> 0
A25: Таблица 3.5 Наполняемость классов по ступеням обучения
A26: учебный год | B26: 1-4 классы | C26: 5-9 классы | D26: 10-11 классы
A27: 2018-2019 | B27: 24.6 | C27: 19.6 | D27: 22
A28: 2019-2020 | B28: 25.1 | C28: 22.3 | D28: 24.5
A29: 2020-2021 | B29: 25.5 | C29: 23.1 | D29: 22.5
A30: 2021-2022 | B30: 23.6 | C30: 22.8 | D30: 24
A31: 2022-2023 | B31: 24 | C31: 22.3 | D31: 24
A32: Таблица 3.6 Количество прибывших и выбывших педагогов
A33: учебный год | B33: Количество педагогов всего | C33: Количество прибывших педагогических работников | D33: Количество выбывших педагогических работников
A34: 2018-2019 | B34: 53 | C34: 6 | D34: 5
A35: 2019-2020 | B35: 52 | C35: 4 | D35: 4
A36: 2020-2021 | B36: 52 | C36: 1 | D36: 5
A37: 2021-2022 | B37: 53 | C37: 5 | D37: 1
A38: 2022-2023 | B38: 52 | C38: 2 | D38: 2
A39: Таблица 3.7 Доля прибывших и выбывших педагогов
A40: учебный год | B40: доля прибывших педагогических работников | C40: доля выбывших педагогических работников
A41: 2018-2019 | B41: =C34/B34*100 -> 11.320755 | C41: =D34/B34*100 -> 9.4339623
A42: 2019-2020 | B42: =C35/B35*100 -> 7.6923077 | C42: =D35/B35*100 -> 7.6923077
A43: 2020-2021 | B43: =C36/B36*100 -> 1.9230769 | C43: =D36/B36*100 -> 9.6153846
A44: 2021-2022 | B44: =C37/B37*100 -> 9.4339623 | C44: =D37/B37*100 -> 1.8867925
A45: 2022-2023 | B45: =C38/B38*100 -> 3.8461538 | C45: =D38/B38*100 -> 3.8461538
A46: Таблица 3.8 Соотношение учащихся и педагогов 1-4 классов
A47: учебный год | B47: Количество педагогов 1-4 классов | C47: Количество учащихся 1-4 классов | D47: Соотношение учащихся и педагогов 1-4 классов
A48: 2018-2019 | B48: 16 | C48: 443 | D48: =C48/B48 -> 27.6875
A49: 2019-2020 | B49: 18 | C49: 452 | D49: =C49/B49 -> 25.111111
A50: 2020-2021 | B50: 19 | C50: 429 | D50: =C50/B50 -> 22.578947
A51: 2021-2022 | B51: 18 | C51: 416 | D51: =C51/B51 -> 23.111111
A52: 2022-2023 | B52: 19 | C52: 411 | D52: =C52/B52 -> 21.631579
A53: Таблица 3.9 Соотношение учащихся и педагогов 5-11 классов
A54: учебный год | B54: Количество педагогов 5-11 классов | C54: Количество учащихся 5-11 классов | D54: Соотношение учащихся и педагогов 5-11 классов
A55: 2018-2019 | B55: 37 | C55: 299 | D55: =C55/B55 -> 8.0810811
A56: 2019-2020 | B56: 32 | C56: 339 | D56: =C56/B56 -> 10.59375
A57: 2020-2021 | B57: 34 | C57: 369 | D57: =C57/B57 -> 10.852941
A58: 2021-2022 | B58: 35 | C58: 408 | D58: =C58/B58 -> 11.657143
A59: 2022-2023 | B59: 34 | C59: 489 | D59: =C59/B59 -> 14.382353
A60: Таблица 3.10 Соотношение учащихся и педагогов
A61: учебный год | B61: Соотношение учащихся и педагогов 1-4 классов | C61: Соотношение учащихся и педагогов 5-11 классов
A62: 2018-2019 | B62: 22.9 | C62: 7.6
A63: 2019-2020 | B63: 19.9 | C63: 7.8
A64: 2020-2021 | B64: 22.3 | C64: 9.3
A65: 2021-2022 | B65: 27.7 | C65: 8.1
A66: 2022-2023 | B66: 25.1 | C66: 10.6
A67: Таблица 3.11 Количество учащихся занимающихся посменно
A68: учебный год | B68: количество учащихся 1 смены | C68: количество учащихся 2 смены | D68: количество учащихся всего
A69: 2018-2019 | B69: 464 | C69: 278 | D69: 742
A70: 2019-2020 | B70: 459 | C70: 335 | D70: =SUM(B70:C70) -> 794
A71: 2020-2021 | B71: 489 | C71: 364 | D71: =SUM(B71:C71) -> 853
A72: 2021-2022 | B72: 527 | C72: 347 | D72: =SUM(B72:C72) -> 874
A73: 2022-2023 | B73: 536 | C73: 369 | D73: =SUM(B73:C73) -> 905
A75: Таблица 3.12 Доля учащихся занимающихся в первую и во вторую смены
A76: учебный год | B76: доля учащихся, обучающихся в 1 смену | C76: доля учащихся, обучающихся во 2 смену
A77: 2018-2019 | B77: =B69/D69*100 -> 62.533693 | C77: =C69/D69*100 -> 37.466307
A78: 2019-2020 | B78: =B70/D70*100 -> 57.808564 | C78: =C70/D70*100 -> 42.191436
A79: 2020-2021 | B79: =B71/D71*100 -> 57.327081 | C79: =C71/D71*100 -> 42.672919
A80: 2021-2022 | B80: =B72/D72*100 -> 60.297483 | C80: =C72/D72*100 -> 39.702517
A81: 2022-2023 | B81: =B73/D73*100 -> 59.226519 | C81: =C73/D73*100 -> 40.773481
A84: Таблица 3.17 Количество учащихся, получивших травмы в учебно-воспитательном процессе
A85: Учебный год | B85: 2018-2019 | C85: 2019-2020 | D85: 2020-2021 | E85: 2021-2022 | F85: 2022-2023
A86: Кол-во травм | B86: 1 | C86: 0 | D86: 0 | E86: 0 | F86: 0
A88: Таблица 3.18 Количество учащихся, перенесших ОРЗ, ОРВИ, инфекционные заболевания
A89: Учебный год | B89: 2018-2019 | C89: 2019-2020 | D89: 2020-2021 | E89: 2021-2022 | F89: 2022-2023
A90: Кол-во учащихся перенесших ОРЗ, ОРВИ | B90: 115 | C90: 126 | D90: 135 | E90: 123 | F90: 113
A91: Кол-во учащихся перенесших инфекционные заболевания | B91: 10 | C91: 12 | D91: 13 | E91: 10 | F91: 9
A93: Таблица 3.19 Доля учащихся, перенесших ОРЗ, ОРВИ, инфекционные заболевания
A94: Учебный год | B94: 2018-2019 | C94: 2019-2020 | D94: 2020-2021 | E94: 2021-2022 | F94: 2022-2023
A95: Доля учащихся перенесших ОРЗ, ОРВИ | B95: =B90*100/532 -> 21.616541 | C95: =C90*100/543 -> 23.20442 | D95: =D90*100/537 -> 25.139665 | E95: =E90*100/548 -> 22.445255 | F95: =F90*100/548 -> 20.620438
A96: Доля учащихся перенесших инфекционные заболевания | B96: =B91*100/532 -> 1.8796992 | C96: =C91*100/543 -> 2.2099448 | D96: =D91*100/537 -> 2.4208566 | E96: =E91*100/548 -> 1.8248175 | F96: =F91*100/548 -> 1.6423358
A98: Таблица 3.20 Количество учащихся, которым рекомендованы занятия физкультурой в спецмедгруппах
A99: учебный год | B99: количество учащихся всего | C99: количество учащихся освобожден-ных от физкультуры | D99: количество учащихся определенных в спецмед группы
A100: 2018-2019 | B100: 742 | C100: 10 | D100: 7
A101: 2019-2020 | B101: 794 | C101: 10 | D101: 17
A102: 2020-2021 | B102: 853 | C102: 12 | D102: 7
A103: 2021-2022 | B103: 874 | C103: 13 | D103: 8
A104: 2022-2023 | B104: 905 | C104: 12 | D104: 8
A106: Таблица 3.21 Доля учащихся, которым рекомендованы занятия физкультурой в спецмедгруппах
A107: учебный год | B107: доля учащихся освобожденных от физкультуры | C107: доля учащихся определенных в спецмед группы
A108: 2018-2019 | B108: =C100/B100*100 -> 1.3477089 | C108: =D100/B100*100 -> 0.94339623
A109: 2019-2020 | B109: =C101/B101*100 -> 1.2594458 | C109: =D101/B101*100 -> 2.1410579
A110: 2020-2021 | B110: =C102/B102*100 -> 1.4067995 | C110: =D102/B102*100 -> 0.82063306
...

Sheet Таблицы, внешк. орг.
A1: Таблица 3.13 Количество учащихся, занимающихся в организациях дополнительного образования
A2: учебный год | B2: количество учащихся всего | C2: количество учащихся занимающихся в организациях дополнительного образованиявсего | D2: кол-во учащихся занимающихся в художественной школе | E2: кол-во учащихся занимающихся в музыкальной школе | F2: кол-во учащихся занимающихся в Доме детского творчества | G2: кол-во учащихся занимающихся в венно-спортивных секциях | H2: кол-во учащихся занимающихся в танцевальных коллективах
A3: 2018-2019 | B3: 742 | C3: =SUM(D3:H3) -> 297 | D3: 52 | E3: 68 | F3: 25 | G3: 124 | H3: 28
A4: 2019-2020 | B4: 794 | C4: =SUM(D4:H4) -> 314 | D4: 64 | E4: 72 | F4: 25 | G4: 129 | H4: 24
A5: 2020-2021 | B5: 853 | C5: =SUM(D5:H5) -> 319 | D5: 62 | E5: 72 | F5: 25 | G5: 125 | H5: 35
A6: 2021-2022 | B6: 874 | C6: =SUM(D6:H6) -> 332 | D6: 53 | E6: 85 | F6: 25 | G6: 132 | H6: 37
A7: 2022-2023 | B7: 905 | C7: =SUM(D7:H7) -> 346 | D7: 58 | E7: 105 | F7: 32 | G7: 126 | H7: 25
A8: Таблица 3.14 Доля учащихся, занимающихся в организациях дополнительного образования
A9: учебный год | B9: доля учащихся занимающихся в организациях дополнительного образования всего | C9: доля учащихся занимающихся в художественной школе | D9: доля учащихся занимающихся в музыкальной школе | E9: доля учащихся занимающихся в Доме детского творчества | F9: доля учащихся занимающихся в спортивных секциях | G9: доля учащихся занимающихся в танцевальных коллективах
A10: 2018-2019 | B10: =C3/B3*100 -> 40.026954 | C10: =D3/B3*100 -> 7.0080863 | D10: =E3/B3*100 -> 9.1644205 | E10: =F3/B3*100 -> 3.3692722 | F10: =G3/B3*100 -> 16.71159 | G10: =H3/B3*100 -> 3.7735849
A11: 2019-2020 | B11: =C4/B4*100 -> 39.546599 | C11: =D4/B4*100 -> 8.0604534 | D11: =E4/B4*100 -> 9.0680101 | E11: =F4/B4*100 -> 3.1486146 | F11: =G4/B4*100 -> 16.246851 | G11: =H4/B4*100 -> 3.02267
A12: 2020-2021 | B12: =C5/B5*100 -> 37.397421 | C12: =D5/B5*100 -> 7.2684642 | D12: =E5/B5*100 -> 8.4407972 | E12: =F5/B5*100 -> 2.9308324 | F12: =G5/B5*100 -> 14.654162 | G12: =H5/B5*100 -> 4.1031653
A13: 2021-2022 | B13: =C6/B6*100 -> 37.98627 | C13: =D6/B6*100 -> 6.0640732 | D13: =E6/B6*100 -> 9.7254005 | E13: =F6/B6*100 -> 2.8604119 | F13: =G6/B6*100 -> 15.102975 | G13: =H6/B6*100 -> 4.2334096
A14: 2022-2023 | B14: =C7/B7*100 -> 38.232044 | C14: =D7/B7*100 -> 6.4088398 | D14: =E7/B7*100 -> 11.60221 | E14: =F7/B7*100 -> 3.5359116 | F14: =G7/B7*100 -> 13.922652 | G14: =H7/B7*100 -> 2.7624309
A15: Таблица 3.15 Количество учащихся, занимающихся в школьных кружках и секциях
A16: учебный год | B16: количество учащихся всего | C16: количество учащихся занимающихся в кружках и секциях | D16: кол-во учащихся занимающихся в кружке "Санпост" | E16: кол-во учащихся занимающихся в кружках декоративно-прикладной направленности | F16: кол-во учащихся занимающихся в кружке "Медиацентр", "Пресс-центр" | G16: кол-во учащихся занимающихся в кружках "ЮИД", "ЮПП", "ДЮП" | H16: кол-во учащихся занимающихся в кружке IT, робототехники | I16: кол-во учащихся занимающихся в спортивных секциях | J16: кол-во учащихся занимающихся в танцевальных коллективах | K16: кол-во учащихся занимающихся в кружках хорового и вокального пения | L16: кол-во учащихся занимающихся в кружке "Золотое перо", "ДЕБАТЫ", Мәнерлеп оқу,
A17: 2018-2019 | B17: 657 | C17: =SUM(D17:L17) -> 298 | D17: 0 | E17: 24 | F17: 10 | G17: 20 | H17: 32 | I17: 85 | J17: 43 | K17: 84 | L17: 0
A18: 2019-2020 | B18: 701 | C18: =SUM(D18:L18) -> 284 | D18: 0 | E18: 30 | F18: 10 | G18: 14 | H18: 7 | I18: 64 | J18: 62 | K18: 82 | L18: 15
A19: 2020-2021 | B19: 853 | C19: =SUM(D19:L19) -> 322 | D19: 0 | E19: 32 | F19: 10 | G19: 14 | H19: 0 | I19: 64 | J19: 82 | K19: 120 | L19: 0
A20: 2021-2022 | B20: 874 | C20: =SUM(D20:L20) -> 471 | D20: 0 | E20: 40 | F20: 30 | G20: 15 | H20: 69 | I20: 185 | J20: 40 | K20: 40 | L20: 52
A21: 2022-2023 | B21: 905 | C21: =SUM(D21:L21) -> 508 | D21: 0 | E21: 43 | F21: 40 | G21: 15 | H21: 54 | I21: 169 | J21: 90 | K21: 60 | L21: 37
A22: Таблица 3.16 Доля учащихся, занимающихся в школьных кружках секциях
A23: учебный год | B23: доля учащихся занимающихся в кружках и секциях | C23: доля учащихся занимающихся в кружке "Санпост" | D23: доля учащихся занимающихся в кружках декоративно-прикладной направленности | E23: доля учащихся занимающихся в кружке "Юный корреспондент" | F23: доля учащихся занимающихся в кружках "ЮИД", "ЮПП" | G23: кол-во учащихся занимающихся в кружке "Квантор", робототехники | H23: доля учащихся занимающихся в спортивных секциях | I23: доля учащихся занимающихся в танцевальных коллективах | J23: доля учащихся занимающихся в кружках хорового и вокального пения | K23: доля учащихся занимающихся в кружке "Золотое перо"
A24: 2018-2019 | B24: =C17/B17*100 -> 45.357686 | C24: =D17/B17*100 -> 0 | D24: =E17/B17*100 -> 3.652968 | E24: =F17/B17*100 -> 1.52207 | F24: =G17/B17*100 -> 3.04414 | G24: =H17/B17*100 -> 4.870624 | H24: =I17/B17*100 -> 12.937595 | I24: =J17/B17*100 -> 6.5449011 | J24: =K17/B17*100 -> 12.785388 | K24: ='Таблицы, внешк. орг.'!L17/B17*100 -> 0
A25: 2019-2020 | B25: =C18/B18*100 -> 40.513552 | C25: =D18/B18*100 -> 0 | D25: =E18/B18*100 -> 4.2796006 | E25: =F18/B18*100 -> 1.4265335 | F25: =G18/B18*100 -> 1.9971469 | G25: =H18/B18*100 -> 0.99857347 | H25: =I18/B18*100 -> 9.1298146 | I25: =J18/B18*100 -> 8.8445078 | J25: =K18/B18*100 -> 11.697575 | K25: ='Таблицы, внешк. орг.'!L18/B18*100 -> 2.1398003
A26: 2020-2021 | B26: =C19/B19*100 -> 37.749121 | C26: =D19/B19*100 -> 0 | D26: =E19/B19*100 -> 3.7514654 | E26: =F19/B19*100 -> 1.1723329 | F26: =G19/B19*100 -> 1.6412661 | G26: =H19/B19*100 -> 0 | H26: =I19/B19*100 -> 7.5029308 | I26: =J19/B19*100 -> 9.6131301 | J26: =K19/B19*100 -> 14.067995 | K26: ='Таблицы, внешк. орг.'!L19/B19*100 -> 0
A27: 2021-2022 | B27: =C20/B20*100 -> 53.89016 | C27: =D20/B20*100 -> 0 | D27: =E20/B20*100 -> 4.576659 | E27: =F20/B20*100 -> 3.4324943 | F27: =G20/B20*100 -> 1.7162471 | G27: =H20/B20*100 -> 7.8947368 | H27: =I20/B20*100 -> 21.167048 | I27: =J20/B20*100 -> 4.576659 | J27: =K20/B20*100 -> 4.576659 | K27: ='Таблицы, внешк. орг.'!L20/B20*100 -> 5.9496568
A28: 2022-2023 | B28: =C21/B21*100 -> 56.132597 | C28: =D21/B21*100 -> 0 | D28: =E21/B21*100 -> 4.7513812 | E28: =F21/B21*100 -> 4.4198895 | F28: =G21/B21*100 -> 1.6574586 | G28: =H21/B21*100 -> 5.9668508 | H28: =I21/B21*100 -> 18.674033 | I28: =J21/B21*100 -> 9.9447514 | J28: =K21/B21*100 -> 6.6298343 | K28: ='Таблицы, внешк. орг.'!L21/B21*100 -> 4.0883978

Sheet Таблицы 1
A1: II. Общая характеристика школы
A2: Таблица 2.2 Количество учащихся по годам обучения, всего
A3: учебный год | B3: 2018-2019 | C3: 2019-2020 | D3: 2020-2021 | E3: 2021-2022 | F3: 2022-2023
A4: численность учащихся | B4: 742 | C4: 794 | D4: 853 | E4: 874 | F4: 905
A6: Таблица 2.3 Количество учащихся по ступеням обучения
B7: количество учащихся 1-4 классов | C7: количество учащихся 5-9 классов | D7: количество учащихся 10-11 классов
A8: 2018-2019 | B8: 443 | C8: 255 | D8: 44
A9: 2019-2020 | B9: 457 | C9: 289 | D9: 48
A10: 2020-2021 | B10: 434 | C10: 369 | D10: 50
A11: 2021-2022 | B11: 416 | C11: 410 | D11: 48
A12: 2022-2023 | B12: 411 | C12: 446 | D12: 48
